BEGIN:VCALENDAR
VERSION:2.0
PRODID:-//Mairie de Montagnole - ECPv6.15.11//NONSGML v1.0//EN
CALSCALE:GREGORIAN
METHOD:PUBLISH
X-WR-CALNAME:Mairie de Montagnole
X-ORIGINAL-URL:https://www.mairie-montagnole.fr
X-WR-CALDESC:Évènements pour Mairie de Montagnole
REFRESH-INTERVAL;VALUE=DURATION:PT1H
X-Robots-Tag:noindex
X-PUBLISHED-TTL:PT1H
BEGIN:VTIMEZONE
TZID:Europe/Paris
BEGIN:DAYLIGHT
TZOFFSETFROM:+0100
TZOFFSETTO:+0200
TZNAME:CEST
DTSTART:20230326T010000
END:DAYLIGHT
BEGIN:STANDARD
TZOFFSETFROM:+0200
TZOFFSETTO:+0100
TZNAME:CET
DTSTART:20231029T010000
END:STANDARD
BEGIN:DAYLIGHT
TZOFFSETFROM:+0100
TZOFFSETTO:+0200
TZNAME:CEST
DTSTART:20240331T010000
END:DAYLIGHT
BEGIN:STANDARD
TZOFFSETFROM:+0200
TZOFFSETTO:+0100
TZNAME:CET
DTSTART:20241027T010000
END:STANDARD
BEGIN:DAYLIGHT
TZOFFSETFROM:+0100
TZOFFSETTO:+0200
TZNAME:CEST
DTSTART:20250330T010000
END:DAYLIGHT
BEGIN:STANDARD
TZOFFSETFROM:+0200
TZOFFSETTO:+0100
TZNAME:CET
DTSTART:20251026T010000
END:STANDARD
END:VTIMEZONE
BEGIN:VEVENT
DTSTART;TZID=Europe/Paris:20240325T080000
DTEND;TZID=Europe/Paris:20240504T170000
DTSTAMP:20260421T135304
CREATED:20240323T162557Z
LAST-MODIFIED:20240330T145208Z
UID:8233-1711353600-1714842000@www.mairie-montagnole.fr
SUMMARY:AAEM - VENTE DE PLANTS HORTICULTEUR VUILLERMET dès maintenant jusqu'au 29 avril- Livraison le samedi 4 mai dans la cour de l'école
DESCRIPTION:C’est le printemps\, tous au jardin !  \n\n\n\nComme chaque année\, nous organisons une vente de plants (fleurs\, légumes\, terreaux\, engrais…) en partenariat avec l’horticulteur VUILLERMET. \n\n\n\n30% du montant des ventes est reversé à notre association. \n\n\n\nCommandes sur internet : jusqu’au 29 avril \n\n\n\nLivraison :  samedi 4 mai entre 15h30 et 17h\, dans la cour de l’école. \n\n\n\n(si vous ne pouvez être disponible samedi 4 mai pour récupérer votre commande\, merci de nous l’indiquer par mail afin que nous puissions trouver une solution ensemble) \n\n\n\nPour commander\, il suffit de se connecter à l’adresse suivante : \n\n\n\nhttp://ecoles.vuillermet.fr/c/YQRUO  \n\n\n\nPuis sélectionner :AAEM les amis de l’école de Montagnole \n\n\n\nDès que vous avez passé commande sur le site internet\, vous pouvez nous déposer votre règlement (de préférence par chèque à l’ordre de l’AAEM) dans la boîte aux lettres des associations\, sous le préau de la mairie. \n\n\n\nN’hésitez pas à faire circuler l’information ! Nous restons disponibles pour toute question. \n\n\n\nAAEM.sou.des.ecoles.montagnole@gmail.com
URL:https://www.mairie-montagnole.fr/evenement/aaem-vente-de-plants-horticulteur-vuillermet-des-maintenant-jusquau-29-avril/
ATTACH;FMTTYPE=image/jpeg:https://www.mairie-montagnole.fr/wp-content/uploads/2021/03/dja_achat-aromatiques-as.jpg
END:VEVENT
BEGIN:VEVENT
DTSTART;TZID=Europe/Paris:20240406T100000
DTEND;TZID=Europe/Paris:20240406T130000
DTSTAMP:20260421T135304
CREATED:20240226T211656Z
LAST-MODIFIED:20240311T211404Z
UID:8095-1712397600-1712408400@www.mairie-montagnole.fr
SUMMARY:CAFE ASSOCIATIF : Chasse aux oeufs
DESCRIPTION:Carole propose\, samedi 6 avril prochain\, de 10 à 11h\, une chasse aux œufs. \n\n\n\nPour s’inscrire\, une seule adresse : montagnart73@gmail.com. \n\n\n\nLes inscriptions sont ouvertes jusqu’au 1er avril. Alors\, à vos claviers ! \n\n\n\nAmicalement. \n\n\n\n\n\nCi-dessous l’affiche \n\n\n\nLe Café est le vôtre\, il ne peut exister que par votre participation. Aussi\, nous recherchons de bonnes volontés pour tenir les permanences le samedi matin\, de 11 heures à 13 heures.
URL:https://www.mairie-montagnole.fr/evenement/cafe-associatif-chasse-aux-oeufs/
ATTACH;FMTTYPE=image/jpeg:https://www.mairie-montagnole.fr/wp-content/uploads/2024/02/chasse-aux-oeufs-2.jpg
END:VEVENT
BEGIN:VEVENT
DTSTART;TZID=Europe/Paris:20240407T100000
DTEND;TZID=Europe/Paris:20240407T150000
DTSTAMP:20260421T135304
CREATED:20240211T110720Z
LAST-MODIFIED:20240211T111335Z
UID:8042-1712484000-1712502000@www.mairie-montagnole.fr
SUMMARY:ECOLE et AAEM - TRAIL DES ENFANTS le dimanche 7 avril
DESCRIPTION:Cette année encore\, l’école de Montagnole et l’AAEM s’associent pour organiser un trail des enfants.  \n\n\n\nDes informations vous seront données prochainement.
URL:https://www.mairie-montagnole.fr/evenement/ecole-et-aaem-trail-des-enfants-le-dimanche-7-avril/
ATTACH;FMTTYPE=image/jpeg:https://www.mairie-montagnole.fr/wp-content/uploads/2024/02/enfants-courir_.jpg
END:VEVENT
BEGIN:VEVENT
DTSTART;TZID=Europe/Paris:20240408T060000
DTEND;TZID=Europe/Paris:20240412T200000
DTSTAMP:20260421T135304
CREATED:20231227T175149Z
LAST-MODIFIED:20231227T175152Z
UID:7762-1712556000-1712952000@www.mairie-montagnole.fr
SUMMARY:L'AMICALE DE MONTAGNOLE - Voyage en Allemagne du 8 au 12 avril 2024
DESCRIPTION:L’association organise un voyage en Allemagne « Forêt Noire et Lac de Constance »\, circuit de cinq jours du 8 au 12 avril 2024. \n\n\n\nIl reste quelques places\, si vous êtes intéressés demandez le programme auprès de : marc.ayel@orange.fr ou pierre.bellot73@orange.fr ou blampey.andre@orange.fr
URL:https://www.mairie-montagnole.fr/evenement/lamicale-de-montagnole-voyage-en-allemagne-du-8-au-12-avril-2024/
ATTACH;FMTTYPE=image/jpeg:https://www.mairie-montagnole.fr/wp-content/uploads/2023/12/FORET-NOIRE-LAC-CONSTANCE.jpg
END:VEVENT
BEGIN:VEVENT
DTSTART;TZID=Europe/Paris:20240410T130000
DTEND;TZID=Europe/Paris:20240410T170000
DTSTAMP:20260421T135304
CREATED:20240408T152732Z
LAST-MODIFIED:20240408T152736Z
UID:8303-1712754000-1712768400@www.mairie-montagnole.fr
SUMMARY:CARRIÈRES VICAT - Tir de Mines le mercredi 10 avril début d'après -midi.
DESCRIPTION:Les capteurs de vibrations seront mis en place aux points habituels. Et des capteurs supplémentaires seront également posés autour de carrière.
URL:https://www.mairie-montagnole.fr/evenement/carrieres-vicat-tir-de-mines-le-mercredi-10-avril-debut-dapres-midi/
ATTACH;FMTTYPE=image/jpeg:https://www.mairie-montagnole.fr/wp-content/uploads/2023/08/logo-vicat.jpg
END:VEVENT
BEGIN:VEVENT
DTSTART;TZID=Europe/Paris:20240411T163000
DTEND;TZID=Europe/Paris:20240411T190000
DTSTAMP:20260421T135304
CREATED:20240410T130255Z
LAST-MODIFIED:20240410T130258Z
UID:8317-1712853000-1712862000@www.mairie-montagnole.fr
SUMMARY:l'AAEM en partenariat avec le traiteur O'Cé bon - VENTE DE COOKIES le jeudi 11 avril de 16h30 à 19h
DESCRIPTION:Le traiteur O’Cé bon  proposera de délicieux cookies ce jeudi 11 avril. \n\n\n\nOcéane vous donne RDV sur son stand\, sous le préau de la mairie\, entre 16h30 et 19h.  \n\n\n\nN’hésitez pas à en parler autour de vous\, tous les bénéfices de cette vente seront reversés à l’AAEM  pour financer les projets scolaires des enfants ! \n\n\n\nMerci à tous ! \n\n\n\nAAEM-Vente-de-CookiesTélécharger
URL:https://www.mairie-montagnole.fr/evenement/laaem-en-partenariat-avec-le-traiteur-oce-bon-vente-de-cookies-le-jeudi-11-avril-de-16h30-a-19h/
ATTACH;FMTTYPE=image/jpeg:https://www.mairie-montagnole.fr/wp-content/uploads/2024/04/cookies.jpeg
END:VEVENT
BEGIN:VEVENT
DTSTART;TZID=Europe/Paris:20240413T100000
DTEND;TZID=Europe/Paris:20240413T110000
DTSTAMP:20260421T135304
CREATED:20240410T142723Z
LAST-MODIFIED:20240410T142727Z
UID:8334-1713002400-1713006000@www.mairie-montagnole.fr
SUMMARY:"BENEVOLES NOUVELLE GENERATION" - Vente de gateaux / gourmandises le samedi 13 avril de 10 h à 11 h sous le préau de la Mairie
DESCRIPTION:Trois enfants du CM2 de l’école de Montagnole organisent une vente de gateaux / gourmandises au bénéfice de la SPA \n\n\n\nMerci de votre participation \n\n\n\naffiche-vente-de-gateaux-le-13-04-2024Télécharger
URL:https://www.mairie-montagnole.fr/evenement/benevoles-nouvelle-generation-vente-de-gateaux-gourmandises-le-samedi-13-avril-de-10-h-a-11-h-sous-le-preau-de-la-mairie/
ATTACH;FMTTYPE=image/png:https://www.mairie-montagnole.fr/wp-content/uploads/2024/04/affiche-vente-de-gateaux-le-13-04-2024.png
END:VEVENT
BEGIN:VEVENT
DTSTART;TZID=Europe/Paris:20240415T073000
DTEND;TZID=Europe/Paris:20240419T180000
DTSTAMP:20260421T135304
CREATED:20240314T131046Z
LAST-MODIFIED:20240406T171552Z
UID:8190-1713166200-1713549600@www.mairie-montagnole.fr
SUMMARY:ACCUEIL DE LOISIRS de MONTAGNOLE - Programme des vacances du 15 au 19 avril
DESCRIPTION:Programme-ALSH-vacances-de-printemps-2024-1Télécharger
URL:https://www.mairie-montagnole.fr/evenement/accueil-de-loisirs-de-montagnole-programme-des-vacances-du-15-au-19-avril/
ATTACH;FMTTYPE=image/jpeg:https://www.mairie-montagnole.fr/wp-content/uploads/2022/04/alsh-image.jpg
END:VEVENT
BEGIN:VEVENT
DTSTART;TZID=Europe/Paris:20240419T090000
DTEND;TZID=Europe/Paris:20240419T150000
DTSTAMP:20260421T135304
CREATED:20240412T073826Z
LAST-MODIFIED:20240412T073829Z
UID:8366-1713517200-1713538800@www.mairie-montagnole.fr
SUMMARY:La DECHETTERIE MOBILE à votre service LE VENDREDI 19 AVRIL plaine des jeux à Montagnole
DESCRIPTION:Vous pourrez y déposer vos déchets comme en déchetterie classique : \n\n\n\n\nGravats\n\n\n\nVégétaux\n\n\n\n\nLes déchets amiantés ne sont pas acceptés.  \n\n\n\nUne zone de réemploi sera installée pour les objets en bon état
URL:https://www.mairie-montagnole.fr/evenement/la-dechetterie-mobile-a-votre-service-le-vendredi-19-avril-plaine-des-jeux-a-montagnole/
ATTACH;FMTTYPE=image/jpeg:https://www.mairie-montagnole.fr/wp-content/uploads/2022/11/Dechetterie-mobile.jpg
END:VEVENT
BEGIN:VEVENT
DTSTART;TZID=Europe/Paris:20240427T210000
DTEND;TZID=Europe/Paris:20240427T233000
DTSTAMP:20260421T135304
CREATED:20240424T223932Z
LAST-MODIFIED:20240425T141735Z
UID:8438-1714251600-1714260600@www.mairie-montagnole.fr
SUMMARY:ENTENTE VAL D'HYERES - Fête de la Bière à St Cassin Le samedi 27 avril 2024
DESCRIPTION:Concert à 21 h avec  » BLACKSTAGE » et à partir de minuit un disque Jockey \n\n\n\nEntrée 5 € \n\n\n\nToutes les informations dans l’affiche ci-dessous :  \n\n\n\nAffiche-Fete-de-la-Biere-2024
URL:https://www.mairie-montagnole.fr/evenement/entente-val-dhyeres-fete-de-la-biere-a-st-cassin-le-samedi-27-avril-2024/
ATTACH;FMTTYPE=image/png:https://www.mairie-montagnole.fr/wp-content/uploads/2024/04/Affiche-Fete-de-la-Biere-2024.png
END:VEVENT
END:VCALENDAR