BEGIN:VCALENDAR
VERSION:2.0
PRODID:-//Mairie de Montagnole - ECPv6.15.11//NONSGML v1.0//EN
CALSCALE:GREGORIAN
METHOD:PUBLISH
X-ORIGINAL-URL:https://www.mairie-montagnole.fr
X-WR-CALDESC:Évènements pour Mairie de Montagnole
REFRESH-INTERVAL;VALUE=DURATION:PT1H
X-Robots-Tag:noindex
X-PUBLISHED-TTL:PT1H
BEGIN:VTIMEZONE
TZID:Europe/Paris
BEGIN:DAYLIGHT
TZOFFSETFROM:+0100
TZOFFSETTO:+0200
TZNAME:CEST
DTSTART:20230326T010000
END:DAYLIGHT
BEGIN:STANDARD
TZOFFSETFROM:+0200
TZOFFSETTO:+0100
TZNAME:CET
DTSTART:20231029T010000
END:STANDARD
BEGIN:DAYLIGHT
TZOFFSETFROM:+0100
TZOFFSETTO:+0200
TZNAME:CEST
DTSTART:20240331T010000
END:DAYLIGHT
BEGIN:STANDARD
TZOFFSETFROM:+0200
TZOFFSETTO:+0100
TZNAME:CET
DTSTART:20241027T010000
END:STANDARD
BEGIN:DAYLIGHT
TZOFFSETFROM:+0100
TZOFFSETTO:+0200
TZNAME:CEST
DTSTART:20250330T010000
END:DAYLIGHT
BEGIN:STANDARD
TZOFFSETFROM:+0200
TZOFFSETTO:+0100
TZNAME:CET
DTSTART:20251026T010000
END:STANDARD
END:VTIMEZONE
BEGIN:VEVENT
DTSTART;TZID=Europe/Paris:20240203T100000
DTEND;TZID=Europe/Paris:20240203T130000
DTSTAMP:20260421T105435
CREATED:20240123T213749Z
LAST-MODIFIED:20240123T214154Z
UID:7916-1706954400-1706965200@www.mairie-montagnole.fr
SUMMARY:CAFE ASSOCIATIF - Atelier initiation échecs pour adultes
DESCRIPTION:Amis(es) adhérents(es)\, \n\n\n\nLes inscriptions au premier atelier initiation échecs pour adultes sont ouvertes !  \n\n\n\nL’atelier se tiendra samedi 3 février 2024 de 10 h à 11 h. \n\n\n\nSi vous avez un échiquier\, pensez à le prendre. \n\n\n\nEt si quelques joueuses ou joueurs étaient intéressé(e)s pour aider Fred à animer cette initiation\, elles seront bien évidemment les bienvenues. \n\n\n\nAmicalement. \n\n\n\nLe Bureau du Café \n\n\n\nThierry Turinaz\, Président – Carole Angonin\, vice-Présidente – Isabelle Frison\, secrétaire – Philippe Bruzy\, trésorier
URL:https://www.mairie-montagnole.fr/evenement/cafz-associatif-atelier-initiation-echecs-pour-adultes/
ATTACH;FMTTYPE=image/jpeg:https://www.mairie-montagnole.fr/wp-content/uploads/2024/01/echecs.jpg
END:VEVENT
BEGIN:VEVENT
DTSTART;TZID=Europe/Paris:20240209T190000
DTEND;TZID=Europe/Paris:20240209T210000
DTSTAMP:20260421T105435
CREATED:20240103T214720Z
LAST-MODIFIED:20240103T214931Z
UID:7813-1707505200-1707512400@www.mairie-montagnole.fr
SUMMARY:COMITE DES FETES - Assemblée Générale le vendredi 9 février à 19 h salle du Conseil
DESCRIPTION:Le comité des fetes vous invitent à son assemblée générale le vendredi 9 février à 19h salle du Conseil municipal de la mairie \n\n\n\nA noter que chaque président d’association inscrite sur la commune de Montagnole est membre d’office du Comité des Fêtes. Vous pouvez vous faire accompagner par un ou plusieurs membres de votre association. \n\n\n\nJe compte sur votre présence. Toutefois\, si vous ne pouviez pas être présent ou être représenté\, je vous remercie de nous le faire savoir ou donner un pouvoir (modèle ci-joint) à une personne de votre choix. \n\n\n\nPouvoir-avec-logo-comite-des-fetes-Modele-2024Télécharger\n\n\n\n Une ébauche du tableau récapitulatif des manifestations connues à ce jour\, vous sera présenté lors de la réunion et vous pourrez le corriger ou le compléter. \n\n\n\nA l’issue de cette assemblée\, nous partagerons le verre de l’amitié.
URL:https://www.mairie-montagnole.fr/evenement/comite-des-fetes-assemblee-generale-le-6-fevrier-a-19-h-salle-du-conseil/
ATTACH;FMTTYPE=image/jpeg:https://www.mairie-montagnole.fr/wp-content/uploads/2022/06/logo-cte-de-fetes_modifie-1.jpg
END:VEVENT
BEGIN:VEVENT
DTSTART;TZID=Europe/Paris:20240210T100000
DTEND;TZID=Europe/Paris:20240210T200000
DTSTAMP:20260421T105435
CREATED:20240204T174432Z
LAST-MODIFIED:20240204T175017Z
UID:7973-1707559200-1707595200@www.mairie-montagnole.fr
SUMMARY:LE TETRAS LIBRE - Assemblée Générale le dimanche 10 février à partir de 10 heures à la salle des fêtes
DESCRIPTION:Centre de sauvegarde de la Faune Sauvage des Pays de Savoie
URL:https://www.mairie-montagnole.fr/evenement/tetra-libre-assemblee-generale-le-dimanche-10-fevrier-a-partir-de-10-heures-a-la-salle-des-fetes/
ATTACH;FMTTYPE=image/jpeg:https://www.mairie-montagnole.fr/wp-content/uploads/2024/02/TETRA-LIBRE-Image.jpg
END:VEVENT
BEGIN:VEVENT
DTSTART;TZID=Europe/Paris:20240210T110000
DTEND;TZID=Europe/Paris:20240210T130000
DTSTAMP:20260421T105435
CREATED:20240205T155044Z
LAST-MODIFIED:20240206T084734Z
UID:8005-1707562800-1707570000@www.mairie-montagnole.fr
SUMMARY:CAFE ASSOCIATIF - Dégustation soupe Ukrainienne (sur place ou à emporter) le samedi 10 février de 11h à 13h au café.
DESCRIPTION:Lyudmila vous propose un voyage culinaire autour d’une spécialité  Ukrainienne  \n\n\n\n 5€ la part sur réservation au montagnart73@gmail.com
URL:https://www.mairie-montagnole.fr/evenement/cafe-associatif-degustation-soupe-ukrainienne-samedi-10-fevrier-de-11h-a-13h-au-cafe/
ATTACH;FMTTYPE=image/webp:https://www.mairie-montagnole.fr/wp-content/uploads/2024/02/traditional-ukrainian-russian-borscht-bowl-260nw-1554425075.webp
END:VEVENT
BEGIN:VEVENT
DTSTART;TZID=Europe/Paris:20240213T090000
DTEND;TZID=Europe/Paris:20240213T150000
DTSTAMP:20260421T105435
CREATED:20231228T231905Z
LAST-MODIFIED:20231228T232514Z
UID:7794-1707814800-1707836400@www.mairie-montagnole.fr
SUMMARY:DECHETTERIE MOBILE à SAINT CASSIN le samedi 13 février de 9h à 15h\, place de la mairie.
DESCRIPTION:Vous pourrez y déposer bois\, métaux\, cartons\, électroménagers\, mobiliers\, textiles\, polystyrène\, tout-venant\, déchets dangereux. Ne sont pas pris les gravats et l’amiante. \n\n\n\nUn agent de Grand Chambéry restera toute la journée. \n\n\n\nLes bennes sont vidées dans la journée si besoin sauf celle des déchets verts.       \n\n\n\nRetrouvez toutes les communes et les infos concernant la déchetterie mobile sur : grandchambery.fr
URL:https://www.mairie-montagnole.fr/evenement/dechetterie-mobile-a-saint-cassin-place-de-la-mairie-de-9h-a-15h/
ATTACH;FMTTYPE=image/jpeg:https://www.mairie-montagnole.fr/wp-content/uploads/2022/11/Dechetterie-mobile.jpg
END:VEVENT
BEGIN:VEVENT
DTSTART;TZID=Europe/Paris:20240215T080000
DTEND;TZID=Europe/Paris:20240215T180000
DTSTAMP:20260421T105435
CREATED:20240115T203627Z
LAST-MODIFIED:20240115T203629Z
UID:7877-1707984000-1708020000@www.mairie-montagnole.fr
SUMMARY:SITE VICAT - Entrainement des pompiers
DESCRIPTION:Pour information : Entrainement des pompiers le jeudi 15 février 2024
URL:https://www.mairie-montagnole.fr/evenement/site-vicat-entrainement-des-pompiers-2/
ATTACH;FMTTYPE=image/jpeg:https://www.mairie-montagnole.fr/wp-content/uploads/2023/06/entrainement-pompiers.jpg
END:VEVENT
BEGIN:VEVENT
DTSTART;TZID=Europe/Paris:20240216T090000
DTEND;TZID=Europe/Paris:20240216T150000
DTSTAMP:20260421T105435
CREATED:20231228T232343Z
LAST-MODIFIED:20231228T232837Z
UID:7797-1708074000-1708095600@www.mairie-montagnole.fr
SUMMARY:DECHETTERIE MOBILE à JACOB BELLECOMBELLE le vendredi 16 février 2024 de 9h à 15h sur le parking de la Jacobelle.
DESCRIPTION:Vous pourrez y déposer bois\, métaux\, cartons\, électroménagers\, mobiliers\, textiles\, polystyrène\, tout-venant\, déchets dangereux. Ne sont pas pris les gravats et l’amiante. \n\n\n\nUn agent de Grand Chambéry restera toute la journée. \n\n\n\nLes bennes sont vidées dans la journée si besoin sauf celle des déchets verts.       \n\n\n\nRetrouvez toutes les communes et les infos concernant la déchetterie mobile sur : grandchambery.fr
URL:https://www.mairie-montagnole.fr/evenement/dechetterie-mobile-a-jacob-bellecombelle-parking-de-la-jacobelle-le-16-02-2024-de-9h-a-15h/
ATTACH;FMTTYPE=image/jpeg:https://www.mairie-montagnole.fr/wp-content/uploads/2022/11/Dechetterie-mobile.jpg
END:VEVENT
BEGIN:VEVENT
DTSTART;TZID=Europe/Paris:20240217T173000
DTEND;TZID=Europe/Paris:20240217T233000
DTSTAMP:20260421T105435
CREATED:20240114T163716Z
LAST-MODIFIED:20240123T140627Z
UID:7873-1708191000-1708212600@www.mairie-montagnole.fr
SUMMARY:ENTENTE VAL D’HYERES – Concours de belote à Saint Cassin
DESCRIPTION:ci-joint affiche avec quelques renseignements \n\n\n\naffiche-loto-du-17-02-2024Télécharger
URL:https://www.mairie-montagnole.fr/evenement/entente-val-dhyeres-concours-de-belote-a-vimines-3/
ATTACH;FMTTYPE=image/jpeg:https://www.mairie-montagnole.fr/wp-content/uploads/2024/01/affiche-loto-du-17-02-2024.jpg
END:VEVENT
BEGIN:VEVENT
DTSTART;TZID=Europe/Paris:20240225T100000
DTEND;TZID=Europe/Paris:20240225T130000
DTSTAMP:20260421T105435
CREATED:20240109T102938Z
LAST-MODIFIED:20240109T102942Z
UID:7845-1708855200-1708866000@www.mairie-montagnole.fr
SUMMARY:LE CLUB DE LA DRIERE - Vente de Tripes et de Diots le Dimanche 25 février\, place de l'Eglise
DESCRIPTION:Le samedi 25 février vente de tripes pour 10 euros les 750gr et 2 diots au vin rouge et oignons pour 5 euros. Les réservations sont à faire avant le 10 février auprès de : \n\n\n\n\nYvonne au 04 79 72 32 13\n\n\n\nMonique au 04 79 69 32 57\n\n\n\nMichèle au 04 79 62 14 11\n\n\n\nJosette au 04 79 69 07 37\n\n\n\n\nLe retrait se fera place de l’église le 25 février de 10h00 à 13h00. Le paiement se fera à la commande si possible. Une petite buvette sera installée pour l’occasion.
URL:https://www.mairie-montagnole.fr/evenement/le-club-de-la-driere-vente-de-tripes-et-de-diots-le-dimanche-25-fevrier-place-de-leglise/
ATTACH;FMTTYPE=image/jpeg:https://www.mairie-montagnole.fr/wp-content/uploads/2024/01/Tripes.jpg
END:VEVENT
END:VCALENDAR