BEGIN:VCALENDAR
VERSION:2.0
PRODID:-//Mairie de Montagnole - ECPv6.15.11//NONSGML v1.0//EN
CALSCALE:GREGORIAN
METHOD:PUBLISH
X-WR-CALNAME:Mairie de Montagnole
X-ORIGINAL-URL:https://www.mairie-montagnole.fr
X-WR-CALDESC:Évènements pour Mairie de Montagnole
REFRESH-INTERVAL;VALUE=DURATION:PT1H
X-Robots-Tag:noindex
X-PUBLISHED-TTL:PT1H
BEGIN:VTIMEZONE
TZID:Europe/Paris
BEGIN:DAYLIGHT
TZOFFSETFROM:+0100
TZOFFSETTO:+0200
TZNAME:CEST
DTSTART:20210328T010000
END:DAYLIGHT
BEGIN:STANDARD
TZOFFSETFROM:+0200
TZOFFSETTO:+0100
TZNAME:CET
DTSTART:20211031T010000
END:STANDARD
BEGIN:DAYLIGHT
TZOFFSETFROM:+0100
TZOFFSETTO:+0200
TZNAME:CEST
DTSTART:20220327T010000
END:DAYLIGHT
BEGIN:STANDARD
TZOFFSETFROM:+0200
TZOFFSETTO:+0100
TZNAME:CET
DTSTART:20221030T010000
END:STANDARD
BEGIN:DAYLIGHT
TZOFFSETFROM:+0100
TZOFFSETTO:+0200
TZNAME:CEST
DTSTART:20230326T010000
END:DAYLIGHT
BEGIN:STANDARD
TZOFFSETFROM:+0200
TZOFFSETTO:+0100
TZNAME:CET
DTSTART:20231029T010000
END:STANDARD
END:VTIMEZONE
BEGIN:VEVENT
DTSTART;TZID=Europe/Paris:20221203T080000
DTEND;TZID=Europe/Paris:20221203T170000
DTSTAMP:20260421T121915
CREATED:20221005T001011Z
LAST-MODIFIED:20221025T214310Z
UID:5683-1670054400-1670086800@www.mairie-montagnole.fr
SUMMARY:LA DRIERE - TELETHON
DESCRIPTION:Le téléthon se tiendra comme chaque année à la salle des fêtes le samedi 3 décembre. \n\n\n\nComme tous les ans vous trouverez à emporter des diots/polente\, de la pizza et diverses pâtisseries. Une buvette avec vin chaud\, pour affronter le froid\, sera à votre disposition. \n\n\n\nLes diots/polente sont à retenir à l’avance. Merci de faire bon accueil aux personnes qui vous proposeront des tickets à 5 euros la barquette. \n\n\n\nQue celles et ceux qui le souhaitent apportent\, dès 9 heures\, des pâtisseries et autres gourmandises pour approvisionner le stand. \n\n\n\nNous récupérons aussi les téléphones inutilisés. Une urne sera installée pour les dons : espèce avec reçu ou chèque. \n\n\n\nEn 2021 pas de tombola. Celle-ci nous a été réclamée. Nous renouons donc cette année  avec cette tradition et nous vous proposerons des billets à 1 euro. \n\n\n\nPetit rappel\, la manifestation du Téléthon a rapporté l’an dernier 3 172 euros. Ferons-nous mieux ? \n\n\n\nVENEZ NOMBREUX NOUS REJOINDRE
URL:https://www.mairie-montagnole.fr/evenement/la-driere-telethon/
ATTACH;FMTTYPE=image/jpeg:https://www.mairie-montagnole.fr/wp-content/uploads/2022/10/logo-telethon.jpg
END:VEVENT
BEGIN:VEVENT
DTSTART;TZID=Europe/Paris:20221203T080000
DTEND;TZID=Europe/Paris:20221203T170000
DTSTAMP:20260421T121915
CREATED:20221025T215109Z
LAST-MODIFIED:20221114T143646Z
UID:5780-1670054400-1670086800@www.mairie-montagnole.fr
SUMMARY:PAIN CUIT AU FEU DE BOIS
DESCRIPTION:Du pain cuit au four à bois par une équipe de bénévoles montagnolais vous sera proposé lors du Téléthon. Le pain fait environ 1k200 au prix de 7€ \n\n\n\nLa recette sera entièrement reversée à l’AFM Téléthon.
URL:https://www.mairie-montagnole.fr/evenement/pain-cuit-au-feu-de-bois/
ATTACH;FMTTYPE=image/jpeg:https://www.mairie-montagnole.fr/wp-content/uploads/2022/10/pain-au-feu-de-bois.jpg
END:VEVENT
BEGIN:VEVENT
DTSTART;TZID=Europe/Paris:20221203T103000
DTEND;TZID=Europe/Paris:20221203T120000
DTSTAMP:20260421T121915
CREATED:20221130T095102Z
LAST-MODIFIED:20221130T095153Z
UID:5955-1670063400-1670068800@www.mairie-montagnole.fr
SUMMARY:BIBLIOTHEQUE - Heure du conte pour les enfants de 3 à 6 ans le samedi 3 décembre à partir de 10h30
DESCRIPTION:
URL:https://www.mairie-montagnole.fr/evenement/bibliotheque-heure-du-conte-pour-les-3-6-ans-le-samedi-3-decembre-a-partir-de-10h30/
ATTACH;FMTTYPE=image/jpeg:https://www.mairie-montagnole.fr/wp-content/uploads/2022/11/heure-du-conte.jpg
END:VEVENT
BEGIN:VEVENT
DTSTART;TZID=Europe/Paris:20221208T080000
DTEND;TZID=Europe/Paris:20221208T173000
DTSTAMP:20260421T121915
CREATED:20221121T173542Z
LAST-MODIFIED:20221121T173630Z
UID:5890-1670486400-1670520600@www.mairie-montagnole.fr
SUMMARY:FERMETURE EXCEPTIONNELLE DE LA MAIRIE le Jeudi 8 décembre 2022
DESCRIPTION:Possibilité de laisser un message sur le téléphone au 04 79 69 54 17 – Ceux-ci seront écoutés.
URL:https://www.mairie-montagnole.fr/evenement/fermeure-exeptionnelle-de-la-mairie-le-jeudi-8-decembre-2022/
ATTACH;FMTTYPE=image/jpeg:https://www.mairie-montagnole.fr/wp-content/uploads/2022/05/fermeture-exept-mairie.jpg
END:VEVENT
BEGIN:VEVENT
DTSTART;TZID=Europe/Paris:20221210T080000
DTEND;TZID=Europe/Paris:20221210T160000
DTSTAMP:20260421T121915
CREATED:20221027T132252Z
LAST-MODIFIED:20221028T191546Z
UID:5798-1670659200-1670688000@www.mairie-montagnole.fr
SUMMARY:CAFE ASSOCIATIF - Réalisation de décorations de noël avec les enfants
DESCRIPTION:Philippe et Carole proposent aux enfants de 3 à 12 ans de réaliser une décoration de noël – Action en partenariat avec l’AAEM. Inscription obligatoire à montagnart@gmail.com
URL:https://www.mairie-montagnole.fr/evenement/cafe-associatif-realisation-de-decorations-de-noel-avec-les-enfants/
ATTACH;FMTTYPE=image/webp:https://www.mairie-montagnole.fr/wp-content/uploads/2022/10/27928-deco-sapin-de-noel-recup.webp
END:VEVENT
BEGIN:VEVENT
DTSTART;TZID=Europe/Paris:20221210T090000
DTEND;TZID=Europe/Paris:20221210T150000
DTSTAMP:20260421T121915
CREATED:20221201T102342Z
LAST-MODIFIED:20221201T102344Z
UID:5967-1670662800-1670684400@www.mairie-montagnole.fr
SUMMARY:DÉCHETTERIE MOBILE A SAINT CASSIN LE SAMEDI 10 DECEMBRE 2022
DESCRIPTION:Elle sera installée sur le parking de la mairie de 9h à 15h
URL:https://www.mairie-montagnole.fr/evenement/dechetterie-mobile-a-saint-cassin-le-samedi-10-decembre-2022/
ATTACH;FMTTYPE=application/pdf:https://www.mairie-montagnole.fr/wp-content/uploads/2022/12/Dechetterie-mobile-a-St-Cassin-le-10-12-22.pdf
END:VEVENT
BEGIN:VEVENT
DTSTART;TZID=Europe/Paris:20221210T163000
DTEND;TZID=Europe/Paris:20221210T220000
DTSTAMP:20260421T121915
CREATED:20220903T133110Z
LAST-MODIFIED:20221125T202112Z
UID:5525-1670689800-1670709600@www.mairie-montagnole.fr
SUMMARY:AAEM - Fête de Noël de l'école le samedi 10 décembre 2022
DESCRIPTION:l’ASSOCIATION DES AMIS DE L’ECOLE DE MONTAGNOLE (AAEM) organise sa fête de Noël\, à partir de 16h45. Spectacle humoristique interactif avec ventriloquies pour les familles de l’école\, maquillage\, boom\, rencontre avec le père Noël\, restauration et buvette.Nous convions tous les Montagnolais à nous retrouver après le spectacle\, à partir de 19h pour partager un moment convivial et chaleureux. \n\n\n\nTarif :  \n\n\n\nSpectacle 6 euros \n\n\n\nRepas : Croziflette 5 euros et Buche 2\,50 euros
URL:https://www.mairie-montagnole.fr/evenement/aaem-fete-de-noel-de-lecole-le-samedi-10-decembre-2022/
ATTACH;FMTTYPE=image/webp:https://www.mairie-montagnole.fr/wp-content/uploads/2022/09/AAEM-la-fete-de-noel-.webp
END:VEVENT
BEGIN:VEVENT
DTSTART;TZID=Europe/Paris:20221213T190000
DTEND;TZID=Europe/Paris:20221213T213000
DTSTAMP:20260421T121915
CREATED:20221121T175938Z
LAST-MODIFIED:20221121T180056Z
UID:5895-1670958000-1670967000@www.mairie-montagnole.fr
SUMMARY:ECOLE DE MUSIQUE DU CANTON DE COGNIN et CHORALE DE MONTAGNOLE "Air de Rien" - Audition de Noël
DESCRIPTION:L’école de Musique du canton de Cognin (EMDCC) et la Chorale de Montagnole « Air de Rien » vous propose une audition de Noël dans la salle des fêtes de Montagnole à partir de 19 Heures
URL:https://www.mairie-montagnole.fr/evenement/ecole-de-musique-du-canton-de-cognin-et-chorale-de-montagnole-air-de-rien-audition-de-noel/
ATTACH;FMTTYPE=image/webp:https://www.mairie-montagnole.fr/wp-content/uploads/2022/11/chorale-de-noel.webp
END:VEVENT
BEGIN:VEVENT
DTSTART;TZID=Europe/Paris:20221214T203000
DTEND;TZID=Europe/Paris:20221214T233000
DTSTAMP:20260421T121915
CREATED:20221114T143115Z
LAST-MODIFIED:20221114T143120Z
UID:5847-1671049800-1671060600@www.mairie-montagnole.fr
SUMMARY:VILLAGE CULTUREL - Concert de Noël
DESCRIPTION:L’association du Village Culturel de Montagnole organise un concert de Noël\, le mercredi 14 décembre 2022\, à 20H30\, dans la salle des fêtes de Montagnole avec l’orchestre l’Harmonie Municipale de Chambéry. \n\n\n\nPrix d’entrée: 10 euros \n\n\n\nMerci de diffuser autour de vous.
URL:https://www.mairie-montagnole.fr/evenement/village-culturel-concert-de-noel/
ATTACH;FMTTYPE=image/jpeg:https://www.mairie-montagnole.fr/wp-content/uploads/2021/10/CONCERT-HARMONIE.jpg
END:VEVENT
BEGIN:VEVENT
DTSTART;TZID=Europe/Paris:20221226T080000
DTEND;TZID=Europe/Paris:20221230T120000
DTSTAMP:20260421T121915
CREATED:20221024T185600Z
LAST-MODIFIED:20221025T105957Z
UID:5287-1672041600-1672401600@www.mairie-montagnole.fr
SUMMARY:FERMETURE DE LA MAIRIE
DESCRIPTION:La mairie sera fermée au public du 26 décembre au 30 décembre 2022 à 12 h inclus \n\n\n\nPossibilité de laisser un message sur le téléphone au 04 79 69 54 17. Ceux-ci seront écoutés régulièrement.
URL:https://www.mairie-montagnole.fr/evenement/fermeture-de-la-mairie/
ATTACH;FMTTYPE=image/jpeg:https://www.mairie-montagnole.fr/wp-content/uploads/2022/07/fermeture-mairie.jpg
END:VEVENT
END:VCALENDAR