BEGIN:VCALENDAR
VERSION:2.0
PRODID:-//Mairie de Montagnole - ECPv6.15.11//NONSGML v1.0//EN
CALSCALE:GREGORIAN
METHOD:PUBLISH
X-WR-CALNAME:Mairie de Montagnole
X-ORIGINAL-URL:https://www.mairie-montagnole.fr
X-WR-CALDESC:Évènements pour Mairie de Montagnole
REFRESH-INTERVAL;VALUE=DURATION:PT1H
X-Robots-Tag:noindex
X-PUBLISHED-TTL:PT1H
BEGIN:VTIMEZONE
TZID:Europe/Paris
BEGIN:DAYLIGHT
TZOFFSETFROM:+0100
TZOFFSETTO:+0200
TZNAME:CEST
DTSTART:20230326T010000
END:DAYLIGHT
BEGIN:STANDARD
TZOFFSETFROM:+0200
TZOFFSETTO:+0100
TZNAME:CET
DTSTART:20231029T010000
END:STANDARD
BEGIN:DAYLIGHT
TZOFFSETFROM:+0100
TZOFFSETTO:+0200
TZNAME:CEST
DTSTART:20240331T010000
END:DAYLIGHT
BEGIN:STANDARD
TZOFFSETFROM:+0200
TZOFFSETTO:+0100
TZNAME:CET
DTSTART:20241027T010000
END:STANDARD
BEGIN:DAYLIGHT
TZOFFSETFROM:+0100
TZOFFSETTO:+0200
TZNAME:CEST
DTSTART:20250330T010000
END:DAYLIGHT
BEGIN:STANDARD
TZOFFSETFROM:+0200
TZOFFSETTO:+0100
TZNAME:CET
DTSTART:20251026T010000
END:STANDARD
END:VTIMEZONE
BEGIN:VEVENT
DTSTART;TZID=Europe/Paris:20240525T110000
DTEND;TZID=Europe/Paris:20240525T130000
DTSTAMP:20260424T230558
CREATED:20240424T210321Z
LAST-MODIFIED:20240424T215836Z
UID:8392-1716634800-1716642000@www.mairie-montagnole.fr
SUMMARY:CAFE ASSOCIATIF - on range le café ... et on trinque ! avec Philippe le samedi 25 mai de 11h à 13 h
DESCRIPTION:On vous attend nombreux pour profiter d’un bon moment convivial et ensoleillé ! 
URL:https://www.mairie-montagnole.fr/evenement/cafe-associatif-on-range-le-cafe-et-on-trinque-avec-philippe/
ATTACH;FMTTYPE=image/jpeg:https://www.mairie-montagnole.fr/wp-content/uploads/2024/04/trinquer.jpeg
END:VEVENT
END:VCALENDAR