BEGIN:VCALENDAR
VERSION:2.0
PRODID:-//Mairie de Montagnole - ECPv6.15.11//NONSGML v1.0//EN
CALSCALE:GREGORIAN
METHOD:PUBLISH
X-WR-CALNAME:Mairie de Montagnole
X-ORIGINAL-URL:https://www.mairie-montagnole.fr
X-WR-CALDESC:Évènements pour Mairie de Montagnole
REFRESH-INTERVAL;VALUE=DURATION:PT1H
X-Robots-Tag:noindex
X-PUBLISHED-TTL:PT1H
BEGIN:VTIMEZONE
TZID:Europe/Paris
BEGIN:DAYLIGHT
TZOFFSETFROM:+0100
TZOFFSETTO:+0200
TZNAME:CEST
DTSTART:20230326T010000
END:DAYLIGHT
BEGIN:STANDARD
TZOFFSETFROM:+0200
TZOFFSETTO:+0100
TZNAME:CET
DTSTART:20231029T010000
END:STANDARD
BEGIN:DAYLIGHT
TZOFFSETFROM:+0100
TZOFFSETTO:+0200
TZNAME:CEST
DTSTART:20240331T010000
END:DAYLIGHT
BEGIN:STANDARD
TZOFFSETFROM:+0200
TZOFFSETTO:+0100
TZNAME:CET
DTSTART:20241027T010000
END:STANDARD
BEGIN:DAYLIGHT
TZOFFSETFROM:+0100
TZOFFSETTO:+0200
TZNAME:CEST
DTSTART:20250330T010000
END:DAYLIGHT
BEGIN:STANDARD
TZOFFSETFROM:+0200
TZOFFSETTO:+0100
TZNAME:CET
DTSTART:20251026T010000
END:STANDARD
END:VTIMEZONE
BEGIN:VEVENT
DTSTART;TZID=Europe/Paris:20240517T190000
DTEND;TZID=Europe/Paris:20240517T233000
DTSTAMP:20260424T171929
CREATED:20240407T154802Z
LAST-MODIFIED:20240408T153038Z
UID:8295-1715972400-1715988600@www.mairie-montagnole.fr
SUMMARY:ASSOCIATIONS « JE SUIS UKRAINE » et « VILLAGE CULTUREL » - Soirée culturelle Ukrainienne le 17 mai 2024
DESCRIPTION:Ces associations vous invitent à la découverte de la culture et de la cuisine ukrainienne le vendredi 17 mai à 19h dans la salle des fêtes de Montagnole. \n\n\n\nAu programme : diner – soirée dansante avec musique et chants ukrainiens – tombola – pâtisserie à emporter – vente de souvenirs et d’objets faits main. \n\n\n\nEntrée 30 euros pour adultes et 15 euros pour enfants de 6 à 12 ans (les bénéfices seront reversés au profit de l’Ukraine). \n\n\n\nRéservez vos places jusqu’au 7 mai 2024 : \n\n\n\npar téléphone au : \n\n\n\nou par mail : jsu.contact@gmail.com
URL:https://www.mairie-montagnole.fr/evenement/associations-je-suis-ukraine-et-village-culturel-soiree-culturelle-ukrainienne-le-17-mai-2024/
ATTACH;FMTTYPE=image/jpeg:https://www.mairie-montagnole.fr/wp-content/uploads/2024/04/ukraine-culture.jpg
END:VEVENT
END:VCALENDAR