BEGIN:VCALENDAR
VERSION:2.0
PRODID:-//Mairie de Montagnole - ECPv6.15.11//NONSGML v1.0//EN
CALSCALE:GREGORIAN
METHOD:PUBLISH
X-ORIGINAL-URL:https://www.mairie-montagnole.fr
X-WR-CALDESC:Évènements pour Mairie de Montagnole
REFRESH-INTERVAL;VALUE=DURATION:PT1H
X-Robots-Tag:noindex
X-PUBLISHED-TTL:PT1H
BEGIN:VTIMEZONE
TZID:Europe/Paris
BEGIN:DAYLIGHT
TZOFFSETFROM:+0100
TZOFFSETTO:+0200
TZNAME:CEST
DTSTART:20230326T010000
END:DAYLIGHT
BEGIN:STANDARD
TZOFFSETFROM:+0200
TZOFFSETTO:+0100
TZNAME:CET
DTSTART:20231029T010000
END:STANDARD
BEGIN:DAYLIGHT
TZOFFSETFROM:+0100
TZOFFSETTO:+0200
TZNAME:CEST
DTSTART:20240331T010000
END:DAYLIGHT
BEGIN:STANDARD
TZOFFSETFROM:+0200
TZOFFSETTO:+0100
TZNAME:CET
DTSTART:20241027T010000
END:STANDARD
BEGIN:DAYLIGHT
TZOFFSETFROM:+0100
TZOFFSETTO:+0200
TZNAME:CEST
DTSTART:20250330T010000
END:DAYLIGHT
BEGIN:STANDARD
TZOFFSETFROM:+0200
TZOFFSETTO:+0100
TZNAME:CET
DTSTART:20251026T010000
END:STANDARD
END:VTIMEZONE
BEGIN:VEVENT
DTSTART;TZID=Europe/Paris:20240325T080000
DTEND;TZID=Europe/Paris:20240504T170000
DTSTAMP:20260421T152445
CREATED:20240323T162557Z
LAST-MODIFIED:20240330T145208Z
UID:8233-1711353600-1714842000@www.mairie-montagnole.fr
SUMMARY:AAEM - VENTE DE PLANTS HORTICULTEUR VUILLERMET dès maintenant jusqu'au 29 avril- Livraison le samedi 4 mai dans la cour de l'école
DESCRIPTION:C’est le printemps\, tous au jardin !  \n\n\n\nComme chaque année\, nous organisons une vente de plants (fleurs\, légumes\, terreaux\, engrais…) en partenariat avec l’horticulteur VUILLERMET. \n\n\n\n30% du montant des ventes est reversé à notre association. \n\n\n\nCommandes sur internet : jusqu’au 29 avril \n\n\n\nLivraison :  samedi 4 mai entre 15h30 et 17h\, dans la cour de l’école. \n\n\n\n(si vous ne pouvez être disponible samedi 4 mai pour récupérer votre commande\, merci de nous l’indiquer par mail afin que nous puissions trouver une solution ensemble) \n\n\n\nPour commander\, il suffit de se connecter à l’adresse suivante : \n\n\n\nhttp://ecoles.vuillermet.fr/c/YQRUO  \n\n\n\nPuis sélectionner :AAEM les amis de l’école de Montagnole \n\n\n\nDès que vous avez passé commande sur le site internet\, vous pouvez nous déposer votre règlement (de préférence par chèque à l’ordre de l’AAEM) dans la boîte aux lettres des associations\, sous le préau de la mairie. \n\n\n\nN’hésitez pas à faire circuler l’information ! Nous restons disponibles pour toute question. \n\n\n\nAAEM.sou.des.ecoles.montagnole@gmail.com
URL:https://www.mairie-montagnole.fr/evenement/aaem-vente-de-plants-horticulteur-vuillermet-des-maintenant-jusquau-29-avril/
ATTACH;FMTTYPE=image/jpeg:https://www.mairie-montagnole.fr/wp-content/uploads/2021/03/dja_achat-aromatiques-as.jpg
END:VEVENT
BEGIN:VEVENT
DTSTART;TZID=Europe/Paris:20240504T090000
DTEND;TZID=Europe/Paris:20240504T150000
DTSTAMP:20260421T152445
CREATED:20240422T165244Z
LAST-MODIFIED:20240422T165248Z
UID:8369-1714813200-1714834800@www.mairie-montagnole.fr
SUMMARY:DECHETTERIE MOBILE à SAINT CASSIN le samedi 4 mai
DESCRIPTION:La déchetterie mobile s’installera à St Cassin sur la place de la mairie le samedi 4 mai de 9h à 15h
URL:https://www.mairie-montagnole.fr/evenement/dechetterie-mobile-a-saint-cassin-le-samedi-4-mai/
ATTACH;FMTTYPE=image/jpeg:https://www.mairie-montagnole.fr/wp-content/uploads/2022/11/Dechetterie-mobile.jpg
END:VEVENT
BEGIN:VEVENT
DTSTART;TZID=Europe/Paris:20240504T090000
DTEND;TZID=Europe/Paris:20240504T170000
DTSTAMP:20260421T152445
CREATED:20240502T204532Z
LAST-MODIFIED:20240502T204830Z
UID:8473-1714813200-1714842000@www.mairie-montagnole.fr
SUMMARY:GENDARMERIE -PORTES OUVERTES le samedi 4 mai de 9h à 17h
DESCRIPTION:Plan et programmation dans le Flyers ci-dessous : \n\n\n\nGendarmerie-Portes-ouvertes-Samedi-4-maiTélécharger
URL:https://www.mairie-montagnole.fr/evenement/gendarmerie-portes-ouvertes-le-samedi-4-mai-de-9h-a-17h/
ATTACH;FMTTYPE=image/jpeg:https://www.mairie-montagnole.fr/wp-content/uploads/2024/05/LOGO-Gendarmerie.jpg
END:VEVENT
BEGIN:VEVENT
DTSTART;TZID=Europe/Paris:20240504T110000
DTEND;TZID=Europe/Paris:20240511T130000
DTSTAMP:20260421T152445
CREATED:20240410T132859Z
LAST-MODIFIED:20240501T204506Z
UID:8322-1714820400-1715432400@www.mairie-montagnole.fr
SUMMARY:CAFE ASSOCIATIF -  INFORMATION
DESCRIPTION:Fermeture du café les samedis  4 et 11 mai 2024 \n\n\n\nNous vous retrouverons le samedi 18  mai prochain \n\n\n\n \n\n\n\n\n\nN’oubliez pas de compléter\, pour celles et ceux qui seraient intéressé(e)s\, le sondage de tenue des permanences : https://framadate.org/bmuhrxhATpPfOu8L  \n\n\n\nIl suffit de saisir votre nom\, de choisir la ou les dates pour lesquelles vous souhaitez assurer la permanence du Café et de bien cliquer\, en bout de ligne\, sur le cartouche « enregistrer ». Par avance\, un grand merci ! \n\n\n\nAu plaisir de vous retrouver; \n\n\n\nLe Café est le vôtre\, il ne peut exister que par votre participation. Aussi\, nous recherchons de bonnes volontés pour tenir les permanences le samedi matin\, de 11 heures à 13 heures.
URL:https://www.mairie-montagnole.fr/evenement/cafe-associatif-information/
ATTACH;FMTTYPE=image/jpeg:https://www.mairie-montagnole.fr/wp-content/uploads/2021/06/Logo-cafe.jpg
END:VEVENT
END:VCALENDAR