BEGIN:VCALENDAR
VERSION:2.0
PRODID:-//Mairie de Montagnole - ECPv6.15.11//NONSGML v1.0//EN
CALSCALE:GREGORIAN
METHOD:PUBLISH
X-WR-CALNAME:Mairie de Montagnole
X-ORIGINAL-URL:https://www.mairie-montagnole.fr
X-WR-CALDESC:Évènements pour Mairie de Montagnole
REFRESH-INTERVAL;VALUE=DURATION:PT1H
X-Robots-Tag:noindex
X-PUBLISHED-TTL:PT1H
BEGIN:VTIMEZONE
TZID:Europe/Paris
BEGIN:DAYLIGHT
TZOFFSETFROM:+0100
TZOFFSETTO:+0200
TZNAME:CEST
DTSTART:20230326T010000
END:DAYLIGHT
BEGIN:STANDARD
TZOFFSETFROM:+0200
TZOFFSETTO:+0100
TZNAME:CET
DTSTART:20231029T010000
END:STANDARD
BEGIN:DAYLIGHT
TZOFFSETFROM:+0100
TZOFFSETTO:+0200
TZNAME:CEST
DTSTART:20240331T010000
END:DAYLIGHT
BEGIN:STANDARD
TZOFFSETFROM:+0200
TZOFFSETTO:+0100
TZNAME:CET
DTSTART:20241027T010000
END:STANDARD
BEGIN:DAYLIGHT
TZOFFSETFROM:+0100
TZOFFSETTO:+0200
TZNAME:CEST
DTSTART:20250330T010000
END:DAYLIGHT
BEGIN:STANDARD
TZOFFSETFROM:+0200
TZOFFSETTO:+0100
TZNAME:CET
DTSTART:20251026T010000
END:STANDARD
END:VTIMEZONE
BEGIN:VEVENT
DTSTART;TZID=Europe/Paris:20240325T080000
DTEND;TZID=Europe/Paris:20240504T170000
DTSTAMP:20260421T135400
CREATED:20240323T162557Z
LAST-MODIFIED:20240330T145208Z
UID:8233-1711353600-1714842000@www.mairie-montagnole.fr
SUMMARY:AAEM - VENTE DE PLANTS HORTICULTEUR VUILLERMET dès maintenant jusqu'au 29 avril- Livraison le samedi 4 mai dans la cour de l'école
DESCRIPTION:C’est le printemps\, tous au jardin !  \n\n\n\nComme chaque année\, nous organisons une vente de plants (fleurs\, légumes\, terreaux\, engrais…) en partenariat avec l’horticulteur VUILLERMET. \n\n\n\n30% du montant des ventes est reversé à notre association. \n\n\n\nCommandes sur internet : jusqu’au 29 avril \n\n\n\nLivraison :  samedi 4 mai entre 15h30 et 17h\, dans la cour de l’école. \n\n\n\n(si vous ne pouvez être disponible samedi 4 mai pour récupérer votre commande\, merci de nous l’indiquer par mail afin que nous puissions trouver une solution ensemble) \n\n\n\nPour commander\, il suffit de se connecter à l’adresse suivante : \n\n\n\nhttp://ecoles.vuillermet.fr/c/YQRUO  \n\n\n\nPuis sélectionner :AAEM les amis de l’école de Montagnole \n\n\n\nDès que vous avez passé commande sur le site internet\, vous pouvez nous déposer votre règlement (de préférence par chèque à l’ordre de l’AAEM) dans la boîte aux lettres des associations\, sous le préau de la mairie. \n\n\n\nN’hésitez pas à faire circuler l’information ! Nous restons disponibles pour toute question. \n\n\n\nAAEM.sou.des.ecoles.montagnole@gmail.com
URL:https://www.mairie-montagnole.fr/evenement/aaem-vente-de-plants-horticulteur-vuillermet-des-maintenant-jusquau-29-avril/
ATTACH;FMTTYPE=image/jpeg:https://www.mairie-montagnole.fr/wp-content/uploads/2021/03/dja_achat-aromatiques-as.jpg
END:VEVENT
BEGIN:VEVENT
DTSTART;TZID=Europe/Paris:20240330T110000
DTEND;TZID=Europe/Paris:20240330T130000
DTSTAMP:20260421T135400
CREATED:20240328T230932Z
LAST-MODIFIED:20240328T230935Z
UID:8238-1711796400-1711803600@www.mairie-montagnole.fr
SUMMARY:CAFE ASSOCIATIF - Dégustation de diots façon Jean-Pierre
DESCRIPTION:Ce samedi 30 mars\, Jean-Pierre vous proposera une dégustation de diots cuisinés à sa façon\, le tout arrosé d’un petit vin blanc. \n\n\n\nNous vous attendons\, au café\, entre 11h et 13h
URL:https://www.mairie-montagnole.fr/evenement/cafe-associatif-degustation-de-diots-facon-jean-pierre/
ATTACH;FMTTYPE=image/jpeg:https://www.mairie-montagnole.fr/wp-content/uploads/2024/03/diots-image.jpg
END:VEVENT
BEGIN:VEVENT
DTSTART;TZID=Europe/Paris:20240330T180000
DTEND;TZID=Europe/Paris:20240330T233000
DTSTAMP:20260421T135400
CREATED:20240123T141242Z
LAST-MODIFIED:20240123T141246Z
UID:7914-1711821600-1711841400@www.mairie-montagnole.fr
SUMMARY:COMITE DES FETES - Concours de belote
DESCRIPTION:Le Comité des Fêtes organise son concours de belote le samedi 30 mars 2024 à 18h00 dans la salle des fêtes de Montagnole. \n\n\n\nPré-inscriptions dès maintenant. \n\n\n\nInscriptions toujours possible le jour même dès 18h00 (10 € par personne) \n\n\n\nUne buvette agrémentée d’une petite restauration sera ouverte pour cette occasion. \n\n\n\nRenseignements et pré-inscriptions auprès de : \n\n\n\nPhilippe RAVIER 06.64.87.13.71\, Jean-Michel MARITANO 06 23 34 37 54
URL:https://www.mairie-montagnole.fr/evenement/comite-des-fetes-concours-de-belote/
ATTACH;FMTTYPE=image/jpeg:https://www.mairie-montagnole.fr/wp-content/uploads/2022/03/concours-de-belote-26300.jpg
END:VEVENT
END:VCALENDAR