BEGIN:VCALENDAR
VERSION:2.0
PRODID:-//Mairie de Montagnole - ECPv6.15.11//NONSGML v1.0//EN
CALSCALE:GREGORIAN
METHOD:PUBLISH
X-ORIGINAL-URL:https://www.mairie-montagnole.fr
X-WR-CALDESC:Évènements pour Mairie de Montagnole
REFRESH-INTERVAL;VALUE=DURATION:PT1H
X-Robots-Tag:noindex
X-PUBLISHED-TTL:PT1H
BEGIN:VTIMEZONE
TZID:Europe/Paris
BEGIN:DAYLIGHT
TZOFFSETFROM:+0100
TZOFFSETTO:+0200
TZNAME:CEST
DTSTART:20230326T010000
END:DAYLIGHT
BEGIN:STANDARD
TZOFFSETFROM:+0200
TZOFFSETTO:+0100
TZNAME:CET
DTSTART:20231029T010000
END:STANDARD
BEGIN:DAYLIGHT
TZOFFSETFROM:+0100
TZOFFSETTO:+0200
TZNAME:CEST
DTSTART:20240331T010000
END:DAYLIGHT
BEGIN:STANDARD
TZOFFSETFROM:+0200
TZOFFSETTO:+0100
TZNAME:CET
DTSTART:20241027T010000
END:STANDARD
BEGIN:DAYLIGHT
TZOFFSETFROM:+0100
TZOFFSETTO:+0200
TZNAME:CEST
DTSTART:20250330T010000
END:DAYLIGHT
BEGIN:STANDARD
TZOFFSETFROM:+0200
TZOFFSETTO:+0100
TZNAME:CET
DTSTART:20251026T010000
END:STANDARD
END:VTIMEZONE
BEGIN:VEVENT
DTSTART;TZID=Europe/Paris:20240324T080000
DTEND;TZID=Europe/Paris:20240324T200000
DTSTAMP:20260421T135724
CREATED:20240118T144354Z
LAST-MODIFIED:20240118T144522Z
UID:7897-1711267200-1711310400@www.mairie-montagnole.fr
SUMMARY:ECURIES DE MONTAGNOLE - Concours club et poney
DESCRIPTION:Le dimanche 24 mars aura lieu un concours club et poney au centre équestre de Montagnole
URL:https://www.mairie-montagnole.fr/evenement/ecuries-de-montagnole-concours-club-et-poney/
ATTACH;FMTTYPE=image/jpeg:https://www.mairie-montagnole.fr/wp-content/uploads/2023/08/ecurie-montagnole-image.jpg
END:VEVENT
BEGIN:VEVENT
DTSTART;TZID=Europe/Paris:20240324T143000
DTEND;TZID=Europe/Paris:20240324T200000
DTSTAMP:20260421T135724
CREATED:20240211T104634Z
LAST-MODIFIED:20240314T155743Z
UID:8032-1711290600-1711310400@www.mairie-montagnole.fr
SUMMARY:Association « le village culturel » – Théâtre pour rire – 2ème séance  dimanche 24 à 17h
DESCRIPTION: Théâtre pour rire\, dimanche 24 mars à 17 H\n\n\n\nla troupe du théâtre pour rire de Cognin vous propose une nouvelle scène : la pièce OSCAR. Ci-dessous affiche à télécharger \n\n\n\nAffiche-piece-de-theatre-1-1Télécharger
URL:https://www.mairie-montagnole.fr/evenement/association-le-village-culturel-theatre-pour-rire-2eme-seance-dimanche-24-en-apres-midi/
ATTACH;FMTTYPE=image/jpeg:https://www.mairie-montagnole.fr/wp-content/uploads/2024/02/Theatre-pour-rire-2.jpg
END:VEVENT
END:VCALENDAR