BEGIN:VCALENDAR
VERSION:2.0
PRODID:-//Mairie de Montagnole - ECPv6.15.11//NONSGML v1.0//EN
CALSCALE:GREGORIAN
METHOD:PUBLISH
X-ORIGINAL-URL:https://www.mairie-montagnole.fr
X-WR-CALDESC:Évènements pour Mairie de Montagnole
REFRESH-INTERVAL;VALUE=DURATION:PT1H
X-Robots-Tag:noindex
X-PUBLISHED-TTL:PT1H
BEGIN:VTIMEZONE
TZID:Europe/Paris
BEGIN:DAYLIGHT
TZOFFSETFROM:+0100
TZOFFSETTO:+0200
TZNAME:CEST
DTSTART:20230326T010000
END:DAYLIGHT
BEGIN:STANDARD
TZOFFSETFROM:+0200
TZOFFSETTO:+0100
TZNAME:CET
DTSTART:20231029T010000
END:STANDARD
BEGIN:DAYLIGHT
TZOFFSETFROM:+0100
TZOFFSETTO:+0200
TZNAME:CEST
DTSTART:20240331T010000
END:DAYLIGHT
BEGIN:STANDARD
TZOFFSETFROM:+0200
TZOFFSETTO:+0100
TZNAME:CET
DTSTART:20241027T010000
END:STANDARD
BEGIN:DAYLIGHT
TZOFFSETFROM:+0100
TZOFFSETTO:+0200
TZNAME:CEST
DTSTART:20250330T010000
END:DAYLIGHT
BEGIN:STANDARD
TZOFFSETFROM:+0200
TZOFFSETTO:+0100
TZNAME:CET
DTSTART:20251026T010000
END:STANDARD
END:VTIMEZONE
BEGIN:VEVENT
DTSTART;TZID=Europe/Paris:20240316T103000
DTEND;TZID=Europe/Paris:20240316T120000
DTSTAMP:20260421T135746
CREATED:20240221T211143Z
LAST-MODIFIED:20240221T211144Z
UID:8074-1710585000-1710590400@www.mairie-montagnole.fr
SUMMARY:BIBLIOTHEQUE - Nouveauté en mars
DESCRIPTION:En Mars le printemps arrive et les idées foisonnent… \n\n\n\nNous vous proposons une nouvelle animation le 3ème samedi de chaque mois à partir de 10h30. Venez partager votre métier ou vos passions avec les enfants de la bibliothèque. \n\n\n\nPour ouvrir cette nouvelle page\, Fanny viendra nous parler de son métier de pilote de ligne le samedi 16 mars.
URL:https://www.mairie-montagnole.fr/evenement/bibliotheque-nouveaute-en-mars/
ATTACH;FMTTYPE=image/png:https://www.mairie-montagnole.fr/wp-content/uploads/2024/02/avion-pour-biblio.png
END:VEVENT
BEGIN:VEVENT
DTSTART;TZID=Europe/Paris:20240316T110000
DTEND;TZID=Europe/Paris:20240316T130000
DTSTAMP:20260421T135746
CREATED:20240206T094206Z
LAST-MODIFIED:20240311T205006Z
UID:8017-1710586800-1710594000@www.mairie-montagnole.fr
SUMMARY:CAFE ASSOCIATIF - Vente de Paëlla
DESCRIPTION:Ce samedi 16 mars\, Maria vous propose une délicieuse recette de paëlla (5€ la part) \n\n\n\nAlors\, réservez par mail (montagnart73@gmail.com) et retirez votre commande au café entre 11h et 13h.  \n\n\n\nAu plaisir de vous retrouvez samedi !  \n\n\n\nLe café est le votre\, il ne peut exister que par votre participation. Aussi nous recherchons des bonnes volontés pour tenir les permanences le samedi matin\, de 11 h à 13 h. \n\n\n\nLe bureau du Café Associatif
URL:https://www.mairie-montagnole.fr/evenement/cafe-associatif-vente-de-paella/
ATTACH;FMTTYPE=image/webp:https://www.mairie-montagnole.fr/wp-content/uploads/2022/10/Paella.webp
END:VEVENT
END:VCALENDAR