BEGIN:VCALENDAR
VERSION:2.0
PRODID:-//Mairie de Montagnole - ECPv6.15.11//NONSGML v1.0//EN
CALSCALE:GREGORIAN
METHOD:PUBLISH
X-ORIGINAL-URL:https://www.mairie-montagnole.fr
X-WR-CALDESC:Évènements pour Mairie de Montagnole
REFRESH-INTERVAL;VALUE=DURATION:PT1H
X-Robots-Tag:noindex
X-PUBLISHED-TTL:PT1H
BEGIN:VTIMEZONE
TZID:Europe/Paris
BEGIN:DAYLIGHT
TZOFFSETFROM:+0100
TZOFFSETTO:+0200
TZNAME:CEST
DTSTART:20230326T010000
END:DAYLIGHT
BEGIN:STANDARD
TZOFFSETFROM:+0200
TZOFFSETTO:+0100
TZNAME:CET
DTSTART:20231029T010000
END:STANDARD
BEGIN:DAYLIGHT
TZOFFSETFROM:+0100
TZOFFSETTO:+0200
TZNAME:CEST
DTSTART:20240331T010000
END:DAYLIGHT
BEGIN:STANDARD
TZOFFSETFROM:+0200
TZOFFSETTO:+0100
TZNAME:CET
DTSTART:20241027T010000
END:STANDARD
BEGIN:DAYLIGHT
TZOFFSETFROM:+0100
TZOFFSETTO:+0200
TZNAME:CEST
DTSTART:20250330T010000
END:DAYLIGHT
BEGIN:STANDARD
TZOFFSETFROM:+0200
TZOFFSETTO:+0100
TZNAME:CET
DTSTART:20251026T010000
END:STANDARD
END:VTIMEZONE
BEGIN:VEVENT
DTSTART;TZID=Europe/Paris:20240216T090000
DTEND;TZID=Europe/Paris:20240216T150000
DTSTAMP:20260421T122225
CREATED:20231228T232343Z
LAST-MODIFIED:20231228T232837Z
UID:7797-1708074000-1708095600@www.mairie-montagnole.fr
SUMMARY:DECHETTERIE MOBILE à JACOB BELLECOMBELLE le vendredi 16 février 2024 de 9h à 15h sur le parking de la Jacobelle.
DESCRIPTION:Vous pourrez y déposer bois\, métaux\, cartons\, électroménagers\, mobiliers\, textiles\, polystyrène\, tout-venant\, déchets dangereux. Ne sont pas pris les gravats et l’amiante. \n\n\n\nUn agent de Grand Chambéry restera toute la journée. \n\n\n\nLes bennes sont vidées dans la journée si besoin sauf celle des déchets verts.       \n\n\n\nRetrouvez toutes les communes et les infos concernant la déchetterie mobile sur : grandchambery.fr
URL:https://www.mairie-montagnole.fr/evenement/dechetterie-mobile-a-jacob-bellecombelle-parking-de-la-jacobelle-le-16-02-2024-de-9h-a-15h/
ATTACH;FMTTYPE=image/jpeg:https://www.mairie-montagnole.fr/wp-content/uploads/2022/11/Dechetterie-mobile.jpg
END:VEVENT
END:VCALENDAR