BEGIN:VCALENDAR
VERSION:2.0
PRODID:-//Mairie de Montagnole - ECPv6.15.11//NONSGML v1.0//EN
CALSCALE:GREGORIAN
METHOD:PUBLISH
X-WR-CALNAME:Mairie de Montagnole
X-ORIGINAL-URL:https://www.mairie-montagnole.fr
X-WR-CALDESC:Évènements pour Mairie de Montagnole
REFRESH-INTERVAL;VALUE=DURATION:PT1H
X-Robots-Tag:noindex
X-PUBLISHED-TTL:PT1H
BEGIN:VTIMEZONE
TZID:Europe/Paris
BEGIN:DAYLIGHT
TZOFFSETFROM:+0100
TZOFFSETTO:+0200
TZNAME:CEST
DTSTART:20230326T010000
END:DAYLIGHT
BEGIN:STANDARD
TZOFFSETFROM:+0200
TZOFFSETTO:+0100
TZNAME:CET
DTSTART:20231029T010000
END:STANDARD
BEGIN:DAYLIGHT
TZOFFSETFROM:+0100
TZOFFSETTO:+0200
TZNAME:CEST
DTSTART:20240331T010000
END:DAYLIGHT
BEGIN:STANDARD
TZOFFSETFROM:+0200
TZOFFSETTO:+0100
TZNAME:CET
DTSTART:20241027T010000
END:STANDARD
BEGIN:DAYLIGHT
TZOFFSETFROM:+0100
TZOFFSETTO:+0200
TZNAME:CEST
DTSTART:20250330T010000
END:DAYLIGHT
BEGIN:STANDARD
TZOFFSETFROM:+0200
TZOFFSETTO:+0100
TZNAME:CET
DTSTART:20251026T010000
END:STANDARD
END:VTIMEZONE
BEGIN:VEVENT
DTSTART;TZID=Europe/Paris:20240213T090000
DTEND;TZID=Europe/Paris:20240213T150000
DTSTAMP:20260421T122023
CREATED:20231228T231905Z
LAST-MODIFIED:20231228T232514Z
UID:7794-1707814800-1707836400@www.mairie-montagnole.fr
SUMMARY:DECHETTERIE MOBILE à SAINT CASSIN le samedi 13 février de 9h à 15h\, place de la mairie.
DESCRIPTION:Vous pourrez y déposer bois\, métaux\, cartons\, électroménagers\, mobiliers\, textiles\, polystyrène\, tout-venant\, déchets dangereux. Ne sont pas pris les gravats et l’amiante. \n\n\n\nUn agent de Grand Chambéry restera toute la journée. \n\n\n\nLes bennes sont vidées dans la journée si besoin sauf celle des déchets verts.       \n\n\n\nRetrouvez toutes les communes et les infos concernant la déchetterie mobile sur : grandchambery.fr
URL:https://www.mairie-montagnole.fr/evenement/dechetterie-mobile-a-saint-cassin-place-de-la-mairie-de-9h-a-15h/
ATTACH;FMTTYPE=image/jpeg:https://www.mairie-montagnole.fr/wp-content/uploads/2022/11/Dechetterie-mobile.jpg
END:VEVENT
END:VCALENDAR