BEGIN:VCALENDAR
VERSION:2.0
PRODID:-//Mairie de Montagnole - ECPv6.15.11//NONSGML v1.0//EN
CALSCALE:GREGORIAN
METHOD:PUBLISH
X-WR-CALNAME:Mairie de Montagnole
X-ORIGINAL-URL:https://www.mairie-montagnole.fr
X-WR-CALDESC:Évènements pour Mairie de Montagnole
REFRESH-INTERVAL;VALUE=DURATION:PT1H
X-Robots-Tag:noindex
X-PUBLISHED-TTL:PT1H
BEGIN:VTIMEZONE
TZID:Europe/Paris
BEGIN:DAYLIGHT
TZOFFSETFROM:+0100
TZOFFSETTO:+0200
TZNAME:CEST
DTSTART:20230326T010000
END:DAYLIGHT
BEGIN:STANDARD
TZOFFSETFROM:+0200
TZOFFSETTO:+0100
TZNAME:CET
DTSTART:20231029T010000
END:STANDARD
BEGIN:DAYLIGHT
TZOFFSETFROM:+0100
TZOFFSETTO:+0200
TZNAME:CEST
DTSTART:20240331T010000
END:DAYLIGHT
BEGIN:STANDARD
TZOFFSETFROM:+0200
TZOFFSETTO:+0100
TZNAME:CET
DTSTART:20241027T010000
END:STANDARD
BEGIN:DAYLIGHT
TZOFFSETFROM:+0100
TZOFFSETTO:+0200
TZNAME:CEST
DTSTART:20250330T010000
END:DAYLIGHT
BEGIN:STANDARD
TZOFFSETFROM:+0200
TZOFFSETTO:+0100
TZNAME:CET
DTSTART:20251026T010000
END:STANDARD
END:VTIMEZONE
BEGIN:VEVENT
DTSTART;TZID=Europe/Paris:20240209T190000
DTEND;TZID=Europe/Paris:20240209T210000
DTSTAMP:20260421T122058
CREATED:20240103T214720Z
LAST-MODIFIED:20240103T214931Z
UID:7813-1707505200-1707512400@www.mairie-montagnole.fr
SUMMARY:COMITE DES FETES - Assemblée Générale le vendredi 9 février à 19 h salle du Conseil
DESCRIPTION:Le comité des fetes vous invitent à son assemblée générale le vendredi 9 février à 19h salle du Conseil municipal de la mairie \n\n\n\nA noter que chaque président d’association inscrite sur la commune de Montagnole est membre d’office du Comité des Fêtes. Vous pouvez vous faire accompagner par un ou plusieurs membres de votre association. \n\n\n\nJe compte sur votre présence. Toutefois\, si vous ne pouviez pas être présent ou être représenté\, je vous remercie de nous le faire savoir ou donner un pouvoir (modèle ci-joint) à une personne de votre choix. \n\n\n\nPouvoir-avec-logo-comite-des-fetes-Modele-2024Télécharger\n\n\n\n Une ébauche du tableau récapitulatif des manifestations connues à ce jour\, vous sera présenté lors de la réunion et vous pourrez le corriger ou le compléter. \n\n\n\nA l’issue de cette assemblée\, nous partagerons le verre de l’amitié.
URL:https://www.mairie-montagnole.fr/evenement/comite-des-fetes-assemblee-generale-le-6-fevrier-a-19-h-salle-du-conseil/
ATTACH;FMTTYPE=image/jpeg:https://www.mairie-montagnole.fr/wp-content/uploads/2022/06/logo-cte-de-fetes_modifie-1.jpg
END:VEVENT
END:VCALENDAR