BEGIN:VCALENDAR
VERSION:2.0
PRODID:-//Mairie de Montagnole - ECPv6.15.11//NONSGML v1.0//EN
CALSCALE:GREGORIAN
METHOD:PUBLISH
X-WR-CALNAME:Mairie de Montagnole
X-ORIGINAL-URL:https://www.mairie-montagnole.fr
X-WR-CALDESC:Évènements pour Mairie de Montagnole
REFRESH-INTERVAL;VALUE=DURATION:PT1H
X-Robots-Tag:noindex
X-PUBLISHED-TTL:PT1H
BEGIN:VTIMEZONE
TZID:Europe/Paris
BEGIN:DAYLIGHT
TZOFFSETFROM:+0100
TZOFFSETTO:+0200
TZNAME:CEST
DTSTART:20230326T010000
END:DAYLIGHT
BEGIN:STANDARD
TZOFFSETFROM:+0200
TZOFFSETTO:+0100
TZNAME:CET
DTSTART:20231029T010000
END:STANDARD
BEGIN:DAYLIGHT
TZOFFSETFROM:+0100
TZOFFSETTO:+0200
TZNAME:CEST
DTSTART:20240331T010000
END:DAYLIGHT
BEGIN:STANDARD
TZOFFSETFROM:+0200
TZOFFSETTO:+0100
TZNAME:CET
DTSTART:20241027T010000
END:STANDARD
BEGIN:DAYLIGHT
TZOFFSETFROM:+0100
TZOFFSETTO:+0200
TZNAME:CEST
DTSTART:20250330T010000
END:DAYLIGHT
BEGIN:STANDARD
TZOFFSETFROM:+0200
TZOFFSETTO:+0100
TZNAME:CET
DTSTART:20251026T010000
END:STANDARD
END:VTIMEZONE
BEGIN:VEVENT
DTSTART;TZID=Europe/Paris:20240120T100000
DTEND;TZID=Europe/Paris:20240120T130000
DTSTAMP:20260421T104952
CREATED:20231227T171101Z
LAST-MODIFIED:20231228T222901Z
UID:7750-1705744800-1705755600@www.mairie-montagnole.fr
SUMMARY:LE CLUB DE LA DRIERE - Assemblée Générale le 20 janvier 2024 - Salle n° 1
DESCRIPTION:Le club de la Drière vous convie à son assemblée générale le samedi 20 janvier 2024 à 10 h dans la salle n° 1.
URL:https://www.mairie-montagnole.fr/evenement/le-club-de-la-driere-assemblee-generale-le-20-janvier-2024-salle-n-1/
ATTACH;FMTTYPE=image/jpeg:https://www.mairie-montagnole.fr/wp-content/uploads/2020/10/LA-DRIERE-Logo-e1611599704701.jpg
END:VEVENT
BEGIN:VEVENT
DTSTART;TZID=Europe/Paris:20240120T110000
DTEND;TZID=Europe/Paris:20240120T130000
DTSTAMP:20260421T104952
CREATED:20240118T143719Z
LAST-MODIFIED:20240118T144053Z
UID:7893-1705748400-1705755600@www.mairie-montagnole.fr
SUMMARY:CAFE ASSOCIATIF - Vous accueille le 20 janvier de 11h à 13h
DESCRIPTION:Venez nous retrouver pour partager un moment convivial
URL:https://www.mairie-montagnole.fr/evenement/cafe-associatif-accueil-du-17-01-de-11h-a-13h/
ATTACH;FMTTYPE=image/png:https://www.mairie-montagnole.fr/wp-content/uploads/2019/11/Capture-d-ecran-2019-02-10-a-11.12.10-e1611599771116.png
END:VEVENT
BEGIN:VEVENT
DTSTART;TZID=Europe/Paris:20240120T203000
DTEND;TZID=Europe/Paris:20240120T220000
DTSTAMP:20260421T104952
CREATED:20231122T235440Z
LAST-MODIFIED:20231228T223011Z
UID:7571-1705782600-1705788000@www.mairie-montagnole.fr
SUMMARY:LA COMEDIE DES ALPES - Théâtre "les crétins des alpes" le 20 janvier à 20h30 - Salle des Fêtes.
DESCRIPTION: Le chauvinisme savoyard n’est plus à prouver. En même temps\, on aurait tort de se priver avec d’aussi belles montagnes\, d’aussi jolis lacs et des personnes aussi admirables tout autour de nous. Alors comme on dit : faut pas y craindre vindieu ! \n\n\n\nCe spectacle déjanté est une ode aux Pays de Savoie. Pendant une heure et demie\, on s’amuse des clichés\, des idées reçues mais aussi de nos manies\, de nos habitudes et de toutes ces petites choses qui font de la vie des savoyards une comédie populaire à ciel ouvert. Une série de sketchs à travers lesquels chacun peut se reconnaître de près ou de loin. \n\n\n\nLes trois comédiens survoltés de cette comédie bien de chez nous incarnent tour à tour des montagnards\, un moniteur de ski\, des guides de haute montagne\, un berger\, un groupe de chasseurs\, des policiers mais aussi des parisiens qui débarquent dans nos montagnes pour le meilleur et … pour le rire !” \n\n\n\nEcrit et mis en scène par Thomas Caruso Aragona
URL:https://www.mairie-montagnole.fr/evenement/la-comedie-des-alpes-theatre-les-cretins-des-alpes/
ATTACH;FMTTYPE=image/jpeg:https://www.mairie-montagnole.fr/wp-content/uploads/2023/11/Cretins-des-Alpes-1-scaled-1.jpg
END:VEVENT
END:VCALENDAR