BEGIN:VCALENDAR
VERSION:2.0
PRODID:-//Mairie de Montagnole - ECPv6.15.11//NONSGML v1.0//EN
CALSCALE:GREGORIAN
METHOD:PUBLISH
X-WR-CALNAME:Mairie de Montagnole
X-ORIGINAL-URL:https://www.mairie-montagnole.fr
X-WR-CALDESC:Évènements pour Mairie de Montagnole
REFRESH-INTERVAL;VALUE=DURATION:PT1H
X-Robots-Tag:noindex
X-PUBLISHED-TTL:PT1H
BEGIN:VTIMEZONE
TZID:Europe/Paris
BEGIN:DAYLIGHT
TZOFFSETFROM:+0100
TZOFFSETTO:+0200
TZNAME:CEST
DTSTART:20230326T010000
END:DAYLIGHT
BEGIN:STANDARD
TZOFFSETFROM:+0200
TZOFFSETTO:+0100
TZNAME:CET
DTSTART:20231029T010000
END:STANDARD
BEGIN:DAYLIGHT
TZOFFSETFROM:+0100
TZOFFSETTO:+0200
TZNAME:CEST
DTSTART:20240331T010000
END:DAYLIGHT
BEGIN:STANDARD
TZOFFSETFROM:+0200
TZOFFSETTO:+0100
TZNAME:CET
DTSTART:20241027T010000
END:STANDARD
BEGIN:DAYLIGHT
TZOFFSETFROM:+0100
TZOFFSETTO:+0200
TZNAME:CEST
DTSTART:20250330T010000
END:DAYLIGHT
BEGIN:STANDARD
TZOFFSETFROM:+0200
TZOFFSETTO:+0100
TZNAME:CET
DTSTART:20251026T010000
END:STANDARD
END:VTIMEZONE
BEGIN:VEVENT
DTSTART;TZID=Europe/Paris:20240113T090000
DTEND;TZID=Europe/Paris:20240113T150000
DTSTAMP:20260421T105017
CREATED:20231228T231232Z
LAST-MODIFIED:20231228T232619Z
UID:7791-1705136400-1705158000@www.mairie-montagnole.fr
SUMMARY:DECHETTERIE MOBILE A MONTAGNOLE le samedi 13 janvier 2024 au stade foot de 9h à 15h.
DESCRIPTION:Vous pourrez y déposer bois\, métaux\, cartons\, électroménagers\, mobiliers\, textiles\, polystyrène\, tout-venant\, déchets dangereux. Ne sont pas pris les gravats et l’amiante. \n\n\n\nUn agent de Grand Chambéry restera toute la journée. \n\n\n\nLes bennes sont vidées dans la journée si besoin sauf celle des déchets verts.       \n\n\n\nRetrouvez toutes les communes et les infos concernant la déchetterie mobile sur : grandchambery.fr
URL:https://www.mairie-montagnole.fr/evenement/dechetterie-mobile-a-montagnole-le-13-janvier-2024-au-stade-foot/
ATTACH;FMTTYPE=image/jpeg:https://www.mairie-montagnole.fr/wp-content/uploads/2022/11/Dechetterie-mobile.jpg
END:VEVENT
BEGIN:VEVENT
DTSTART;TZID=Europe/Paris:20240113T110000
DTEND;TZID=Europe/Paris:20240113T130000
DTSTAMP:20260421T105017
CREATED:20231205T135926Z
LAST-MODIFIED:20231217T143239Z
UID:7668-1705143600-1705150800@www.mairie-montagnole.fr
SUMMARY:CAFE ASSOCIATIF - Réouverture le samedi 13 janvier 2024 et partage de la galette des rois
DESCRIPTION:Nous sommes heureux de vous retrouver pour déguster la galette des rois. \n\n\n\nAmicalement le bureau du café associatif
URL:https://www.mairie-montagnole.fr/evenement/cafe-associatif-reouverture-le-samedi-13-janvier-2024/
ATTACH;FMTTYPE=image/jpeg:https://www.mairie-montagnole.fr/wp-content/uploads/2021/11/AAEM-galette-des-rois-frangipane-recette-patisserie-empreinte-sucree.jpg
END:VEVENT
BEGIN:VEVENT
DTSTART;TZID=Europe/Paris:20240113T183000
DTEND;TZID=Europe/Paris:20240113T230000
DTSTAMP:20260421T105017
CREATED:20231227T172656Z
LAST-MODIFIED:20231227T172702Z
UID:7755-1705170600-1705186800@www.mairie-montagnole.fr
SUMMARY:VOEUX DE LA MUNICIPALITE
DESCRIPTION:Monsieur le Maire et le conseil municipal sont heureux de vous inviter aux traditionnels vœux qui se dérouleront : le samedi 13 janvier 2024 à 18h30 à la salle des fêtes. \n\n\n\nCette manifestation permettra de nous rencontrer et de faire le point sur l’année écoulée. \n\n\n\nEnfin\, nous nous retrouverons autour d’un buffet pour un moment de partage et d’amitié.
URL:https://www.mairie-montagnole.fr/evenement/voeux-de-la-municipalite/
ATTACH;FMTTYPE=image/jpeg:https://www.mairie-montagnole.fr/wp-content/uploads/2021/12/meilleurs-voeux.jpg
END:VEVENT
END:VCALENDAR