BEGIN:VCALENDAR
VERSION:2.0
PRODID:-//Mairie de Montagnole - ECPv6.15.11//NONSGML v1.0//EN
CALSCALE:GREGORIAN
METHOD:PUBLISH
X-ORIGINAL-URL:https://www.mairie-montagnole.fr
X-WR-CALDESC:Évènements pour Mairie de Montagnole
REFRESH-INTERVAL;VALUE=DURATION:PT1H
X-Robots-Tag:noindex
X-PUBLISHED-TTL:PT1H
BEGIN:VTIMEZONE
TZID:Europe/Paris
BEGIN:DAYLIGHT
TZOFFSETFROM:+0100
TZOFFSETTO:+0200
TZNAME:CEST
DTSTART:20230326T010000
END:DAYLIGHT
BEGIN:STANDARD
TZOFFSETFROM:+0200
TZOFFSETTO:+0100
TZNAME:CET
DTSTART:20231029T010000
END:STANDARD
BEGIN:DAYLIGHT
TZOFFSETFROM:+0100
TZOFFSETTO:+0200
TZNAME:CEST
DTSTART:20240331T010000
END:DAYLIGHT
BEGIN:STANDARD
TZOFFSETFROM:+0200
TZOFFSETTO:+0100
TZNAME:CET
DTSTART:20241027T010000
END:STANDARD
BEGIN:DAYLIGHT
TZOFFSETFROM:+0100
TZOFFSETTO:+0200
TZNAME:CEST
DTSTART:20250330T010000
END:DAYLIGHT
BEGIN:STANDARD
TZOFFSETFROM:+0200
TZOFFSETTO:+0100
TZNAME:CET
DTSTART:20251026T010000
END:STANDARD
END:VTIMEZONE
BEGIN:VEVENT
DTSTART;TZID=Europe/Paris:20240111T180000
DTEND;TZID=Europe/Paris:20240111T213000
DTSTAMP:20260421T105352
CREATED:20231217T143016Z
LAST-MODIFIED:20231227T174038Z
UID:7720-1704996000-1705008600@www.mairie-montagnole.fr
SUMMARY:VILLAGE CULTUREL - Assemblée Générale.
DESCRIPTION:L’association « Le Village Culturel » de Montagnole vous informe que son Assemblée Générale aura lieu le jeudi 11 janvier 2024 à partir de 18h30 salle du conseil municipal.
URL:https://www.mairie-montagnole.fr/evenement/village-culturel-ag/
ATTACH;FMTTYPE=image/png:https://www.mairie-montagnole.fr/wp-content/uploads/2021/09/LOGO-Village-culturel.png
END:VEVENT
END:VCALENDAR