BEGIN:VCALENDAR
VERSION:2.0
PRODID:-//Mairie de Montagnole - ECPv6.15.11//NONSGML v1.0//EN
CALSCALE:GREGORIAN
METHOD:PUBLISH
X-ORIGINAL-URL:https://www.mairie-montagnole.fr
X-WR-CALDESC:Évènements pour Mairie de Montagnole
REFRESH-INTERVAL;VALUE=DURATION:PT1H
X-Robots-Tag:noindex
X-PUBLISHED-TTL:PT1H
BEGIN:VTIMEZONE
TZID:Europe/Paris
BEGIN:DAYLIGHT
TZOFFSETFROM:+0100
TZOFFSETTO:+0200
TZNAME:CEST
DTSTART:20220327T010000
END:DAYLIGHT
BEGIN:STANDARD
TZOFFSETFROM:+0200
TZOFFSETTO:+0100
TZNAME:CET
DTSTART:20221030T010000
END:STANDARD
BEGIN:DAYLIGHT
TZOFFSETFROM:+0100
TZOFFSETTO:+0200
TZNAME:CEST
DTSTART:20230326T010000
END:DAYLIGHT
BEGIN:STANDARD
TZOFFSETFROM:+0200
TZOFFSETTO:+0100
TZNAME:CET
DTSTART:20231029T010000
END:STANDARD
BEGIN:DAYLIGHT
TZOFFSETFROM:+0100
TZOFFSETTO:+0200
TZNAME:CEST
DTSTART:20240331T010000
END:DAYLIGHT
BEGIN:STANDARD
TZOFFSETFROM:+0200
TZOFFSETTO:+0100
TZNAME:CET
DTSTART:20241027T010000
END:STANDARD
END:VTIMEZONE
BEGIN:VEVENT
DTSTART;TZID=Europe/Paris:20231021T110000
DTEND;TZID=Europe/Paris:20231021T130000
DTSTAMP:20260421T122242
CREATED:20231010T131020Z
LAST-MODIFIED:20231010T131022Z
UID:7358-1697886000-1697893200@www.mairie-montagnole.fr
SUMMARY:CAFE ASSOCIATIF - DEGUSTATION SURPRISE
DESCRIPTION:Venez nombreux
URL:https://www.mairie-montagnole.fr/evenement/cafe-associatif-degustation-surprise-2/
ATTACH;FMTTYPE=image/jpeg:https://www.mairie-montagnole.fr/wp-content/uploads/2021/06/Logo-cafe.jpg
END:VEVENT
END:VCALENDAR