BEGIN:VCALENDAR
VERSION:2.0
PRODID:-//Mairie de Montagnole - ECPv6.15.11//NONSGML v1.0//EN
CALSCALE:GREGORIAN
METHOD:PUBLISH
X-WR-CALNAME:Mairie de Montagnole
X-ORIGINAL-URL:https://www.mairie-montagnole.fr
X-WR-CALDESC:Évènements pour Mairie de Montagnole
REFRESH-INTERVAL;VALUE=DURATION:PT1H
X-Robots-Tag:noindex
X-PUBLISHED-TTL:PT1H
BEGIN:VTIMEZONE
TZID:Europe/Paris
BEGIN:DAYLIGHT
TZOFFSETFROM:+0100
TZOFFSETTO:+0200
TZNAME:CEST
DTSTART:20210328T010000
END:DAYLIGHT
BEGIN:STANDARD
TZOFFSETFROM:+0200
TZOFFSETTO:+0100
TZNAME:CET
DTSTART:20211031T010000
END:STANDARD
BEGIN:DAYLIGHT
TZOFFSETFROM:+0100
TZOFFSETTO:+0200
TZNAME:CEST
DTSTART:20220327T010000
END:DAYLIGHT
BEGIN:STANDARD
TZOFFSETFROM:+0200
TZOFFSETTO:+0100
TZNAME:CET
DTSTART:20221030T010000
END:STANDARD
BEGIN:DAYLIGHT
TZOFFSETFROM:+0100
TZOFFSETTO:+0200
TZNAME:CEST
DTSTART:20230326T010000
END:DAYLIGHT
BEGIN:STANDARD
TZOFFSETFROM:+0200
TZOFFSETTO:+0100
TZNAME:CET
DTSTART:20231029T010000
END:STANDARD
END:VTIMEZONE
BEGIN:VEVENT
DTSTART;TZID=Europe/Paris:20220507T110000
DTEND;TZID=Europe/Paris:20220507T170000
DTSTAMP:20260421T121818
CREATED:20220313T113940Z
LAST-MODIFIED:20220331T135738Z
UID:4615-1651921200-1651942800@www.mairie-montagnole.fr
SUMMARY:AAEM - LIVRAISON DES PLANTS VUILLERMET ET MOMENT FESTIF
DESCRIPTION:La livraison des plants se fera le samedi 7 mai entre 12h et 13h sur la place de l’église \n\n\n\nA l’occasion de la livraison des commandes de plants Vuillermet\, nous vous proposons de tous se retrouver  pour partager un moment convivial : \n\n\n\nA l’occasion de la livraison des commandes de plants Vuillermet hortoculteur\, nous vous proposons de tous se retrouver pour partager un moment convivial \n\n\n\nLes « nuggets du Granier »\, accompagné de leur roulotte gourmande vous proposeront frites et nuggets \n\n\n\nfabriqués localement\, production artisanale 100% filet de poulet frais artisanale 100% filets de pouts frais et d’origine France \n\n\n\nCommande sur place – Dégustation sur place ou à emporter- \n\n\n\n& \n\n\n\nBuvette de l’AAEM\, à partir de 11 h \n\n\n\nNous vous attendons nombreux\, n’hésitez pas à partager l’information à vos amis et voisins ! \n\n\n\nLes bénéfices seront reversés à l’AAEM\, pour le financement des projets scolaires. \n\n\n\nAffiche-AAEM-livraison-et-fete-du-7-mai-2022Télécharger\n\n\n\nToute les informations sur « les Nuggets du granier » sur le leur site : https://www.lesnuggetsdugranier.fr
URL:https://www.mairie-montagnole.fr/evenement/aaem-livraison-des-plants-vuillermet-et-moment-festif/
ATTACH;FMTTYPE=image/jpeg:https://www.mairie-montagnole.fr/wp-content/uploads/2022/02/barquettesplants.jpg
END:VEVENT
END:VCALENDAR